BEGIN:VCALENDAR
VERSION:2.0
PRODID:-//Prince Hall Grand Lodge of Indiana - ECPv6.15.20//NONSGML v1.0//EN
CALSCALE:GREGORIAN
METHOD:PUBLISH
X-WR-CALNAME:Prince Hall Grand Lodge of Indiana
X-ORIGINAL-URL:https://mwphglin.org
X-WR-CALDESC:Events for Prince Hall Grand Lodge of Indiana
REFRESH-INTERVAL;VALUE=DURATION:PT1H
X-Robots-Tag:noindex
X-PUBLISHED-TTL:PT1H
BEGIN:VTIMEZONE
TZID:America/Indiana/Indianapolis
BEGIN:DAYLIGHT
TZOFFSETFROM:-0500
TZOFFSETTO:-0400
TZNAME:EDT
DTSTART:20240310T070000
END:DAYLIGHT
BEGIN:STANDARD
TZOFFSETFROM:-0400
TZOFFSETTO:-0500
TZNAME:EST
DTSTART:20241103T060000
END:STANDARD
BEGIN:DAYLIGHT
TZOFFSETFROM:-0500
TZOFFSETTO:-0400
TZNAME:EDT
DTSTART:20250309T070000
END:DAYLIGHT
BEGIN:STANDARD
TZOFFSETFROM:-0400
TZOFFSETTO:-0500
TZNAME:EST
DTSTART:20251102T060000
END:STANDARD
BEGIN:DAYLIGHT
TZOFFSETFROM:-0500
TZOFFSETTO:-0400
TZNAME:EDT
DTSTART:20260308T070000
END:DAYLIGHT
BEGIN:STANDARD
TZOFFSETFROM:-0400
TZOFFSETTO:-0500
TZNAME:EST
DTSTART:20261101T060000
END:STANDARD
END:VTIMEZONE
BEGIN:VEVENT
DTSTART;VALUE=DATE:20250725
DTEND;VALUE=DATE:20250728
DTSTAMP:20260420T153550
CREATED:20240506T204245Z
LAST-MODIFIED:20250725T004814Z
UID:10000087-1753401600-1753660799@mwphglin.org
SUMMARY:MWPHGL of Indiana 169th Annual Session
DESCRIPTION:Scroll down to Tickets to register for the \n169th Annual Grand Lodge Session\n\nMWPHGL of IN 169th Annual Session \nIndianapolis Marriott East \n7202 East 21st St.\nIndianapolis\, IN 46219\nJuly 25-27\, 2025\n\nRegistration Form \n\nAdvance Registration deadline is July 1\, 2025. Your registration payment must be received before July 1\, 2025.\nLate Registration is from July 2\, 2025 – July 23\, 2025. Your late registration payment must be received before July 17\, 2025.\nAll mail in payments should be made out to MWPHGLIN if you are paying with a cashiers check\, check or money order. Mail them to the RW Grand Secretary Vincent N. Sykes\, Sr.\, Attn: MWPHGLIN\, P.O. Box 902\, Fishers\, IN 46038.
URL:https://mwphglin.org/event/mwphgl-169th-annual-session/
LOCATION:Indianapolis Marriott East\, 7202 East 21st St.\, Indianapolis\, IN\, 46219\, United States
ORGANIZER;CN="PHGL of IN":MAILTO:mwphglin@gmail.com
END:VEVENT
END:VCALENDAR