BEGIN:VCALENDAR
VERSION:2.0
PRODID:-//Prince Hall Grand Lodge of Indiana - ECPv6.15.20//NONSGML v1.0//EN
CALSCALE:GREGORIAN
METHOD:PUBLISH
X-ORIGINAL-URL:https://mwphglin.org
X-WR-CALDESC:Events for Prince Hall Grand Lodge of Indiana
REFRESH-INTERVAL;VALUE=DURATION:PT1H
X-Robots-Tag:noindex
X-PUBLISHED-TTL:PT1H
BEGIN:VTIMEZONE
TZID:America/Indiana/Indianapolis
BEGIN:DAYLIGHT
TZOFFSETFROM:-0500
TZOFFSETTO:-0400
TZNAME:EDT
DTSTART:20240310T070000
END:DAYLIGHT
BEGIN:STANDARD
TZOFFSETFROM:-0400
TZOFFSETTO:-0500
TZNAME:EST
DTSTART:20241103T060000
END:STANDARD
BEGIN:DAYLIGHT
TZOFFSETFROM:-0500
TZOFFSETTO:-0400
TZNAME:EDT
DTSTART:20250309T070000
END:DAYLIGHT
BEGIN:STANDARD
TZOFFSETFROM:-0400
TZOFFSETTO:-0500
TZNAME:EST
DTSTART:20251102T060000
END:STANDARD
BEGIN:DAYLIGHT
TZOFFSETFROM:-0500
TZOFFSETTO:-0400
TZNAME:EDT
DTSTART:20260308T070000
END:DAYLIGHT
BEGIN:STANDARD
TZOFFSETFROM:-0400
TZOFFSETTO:-0500
TZNAME:EST
DTSTART:20261101T060000
END:STANDARD
END:VTIMEZONE
BEGIN:VEVENT
DTSTART;TZID=America/Indiana/Indianapolis:20250405T080000
DTEND;TZID=America/Indiana/Indianapolis:20250405T130000
DTSTAMP:20260421T023503
CREATED:20240506T193725Z
LAST-MODIFIED:20250331T203332Z
UID:10000085-1743840000-1743858000@mwphglin.org
SUMMARY:MWPHGL of IN Spring Workshop Registration Form
DESCRIPTION:MWPHGL of IN Spring Workshop Registration\nScroll down below this picture to the Ticket area to start registering!!!\n\n\n\n\n \nAdvance Registration Fee of $25\, Deadline is 11:30PM EST\, March 30\, 2025.\nLate Registration fee will be $40 if paid after 11:30PM EST on March 30\, 2024 and before April 4\, 2025 5PM EST. Onsite Registration fee on April 5\, 2025 will be $40.00. With Onsite Registration you are not guaranteed a meal.
URL:https://mwphglin.org/event/mwphglin-spring-workshop-registration-form/
LOCATION:3678 Prince Hall Dr.\, Marion\, IN 46953\, 3678 Prince Hall Dr\, Marion\, Indiana\, 46953
CATEGORIES:Prince Hall Grand Lodge
ORGANIZER;CN="PHGL of IN":MAILTO:mwphglin@gmail.com
END:VEVENT
END:VCALENDAR