BEGIN:VCALENDAR
VERSION:2.0
PRODID:-//Prince Hall Grand Lodge of Indiana - ECPv6.15.20//NONSGML v1.0//EN
CALSCALE:GREGORIAN
METHOD:PUBLISH
X-WR-CALNAME:Prince Hall Grand Lodge of Indiana
X-ORIGINAL-URL:https://mwphglin.org
X-WR-CALDESC:Events for Prince Hall Grand Lodge of Indiana
REFRESH-INTERVAL;VALUE=DURATION:PT1H
X-Robots-Tag:noindex
X-PUBLISHED-TTL:PT1H
BEGIN:VTIMEZONE
TZID:UTC
BEGIN:STANDARD
TZOFFSETFROM:+0000
TZOFFSETTO:+0000
TZNAME:UTC
DTSTART:20220101T000000
END:STANDARD
END:VTIMEZONE
BEGIN:VEVENT
DTSTART;VALUE=DATE:20240503
DTEND;VALUE=DATE:20240506
DTSTAMP:20260420T200539
CREATED:20231106T051135Z
LAST-MODIFIED:20231106T051153Z
UID:10000078-1714694400-1714953599@mwphglin.org
SUMMARY:General Conference of Grand Councils (Orlando\, Florida)
DESCRIPTION:
URL:https://mwphglin.org/event/general-conference-of-grand-councils-orlando-fl/
CATEGORIES:Prince Hall Grand Lodge
ATTACH;FMTTYPE=image/png:https://mwphglin.org/wp-content/uploads/2021/10/GL-Seal-NO-BG.png
ORGANIZER;CN="PHGL of IN":MAILTO:mwphglin@gmail.com
END:VEVENT
BEGIN:VEVENT
DTSTART;VALUE=DATE:20240502
DTEND;VALUE=DATE:20240503
DTSTAMP:20260420T200539
CREATED:20231106T051031Z
LAST-MODIFIED:20231106T051031Z
UID:10000077-1714608000-1714694399@mwphglin.org
SUMMARY:North Central District Workshop
DESCRIPTION:
URL:https://mwphglin.org/event/north-central-district-workshop/
CATEGORIES:Prince Hall Grand Lodge
ATTACH;FMTTYPE=image/png:https://mwphglin.org/wp-content/uploads/2021/10/GL-Seal-NO-BG.png
ORGANIZER;CN="PHGL of IN":MAILTO:mwphglin@gmail.com
END:VEVENT
BEGIN:VEVENT
DTSTART;VALUE=DATE:20240421
DTEND;VALUE=DATE:20240422
DTSTAMP:20260420T200539
CREATED:20231106T050640Z
LAST-MODIFIED:20231106T050640Z
UID:10000075-1713657600-1713743999@mwphglin.org
SUMMARY:HRAM Feast of Zerubbabel Day (each Chapter)
DESCRIPTION:
URL:https://mwphglin.org/event/hram-feast-of-zerubbabel-day-each-chapter/
CATEGORIES:York Rite
ATTACH;FMTTYPE=image/jpeg:https://mwphglin.org/wp-content/uploads/2021/10/il_570xN.1377453488_t0y9.jpg
END:VEVENT
BEGIN:VEVENT
DTSTART;VALUE=DATE:20240420
DTEND;VALUE=DATE:20240421
DTSTAMP:20260420T200539
CREATED:20231106T050838Z
LAST-MODIFIED:20231109T190941Z
UID:10000076-1713571200-1713657599@mwphglin.org
SUMMARY:Indiana York Rite Spring Workshop
DESCRIPTION:
URL:https://mwphglin.org/event/indiana-york-rite-spring-workshop/
CATEGORIES:York Rite
ATTACH;FMTTYPE=image/jpeg:https://mwphglin.org/wp-content/uploads/2021/10/il_570xN.1377453488_t0y9.jpg
END:VEVENT
BEGIN:VEVENT
DTSTART;VALUE=DATE:20240419
DTEND;VALUE=DATE:20240422
DTSTAMP:20260420T200539
CREATED:20211019T023758Z
LAST-MODIFIED:20231106T050739Z
UID:10000025-1713484800-1713743999@mwphglin.org
SUMMARY:EL Zora Temple & El Zora Court Ball-TBA
DESCRIPTION:
URL:https://mwphglin.org/event/el-zora-temple-el-zora-court-ball-tba/
CATEGORIES:Desert of Indiana
ATTACH;FMTTYPE=image/png:https://mwphglin.org/wp-content/uploads/2021/10/DOI-Nobles-w-RIDE.png
END:VEVENT
BEGIN:VEVENT
DTSTART;VALUE=DATE:20240415
DTEND;VALUE=DATE:20240416
DTSTAMP:20260420T200539
CREATED:20231106T050530Z
LAST-MODIFIED:20231106T050530Z
UID:10000074-1713139200-1713225599@mwphglin.org
SUMMARY:R&SM/ KT Fall Workshop
DESCRIPTION:
URL:https://mwphglin.org/event/rsm-kt-fall-workshop/
CATEGORIES:York Rite
ATTACH;FMTTYPE=image/jpeg:https://mwphglin.org/wp-content/uploads/2021/10/il_570xN.1377453488_t0y9.jpg
END:VEVENT
BEGIN:VEVENT
DTSTART;VALUE=DATE:20240413
DTEND;VALUE=DATE:20240414
DTSTAMP:20260420T200539
CREATED:20211019T023943Z
LAST-MODIFIED:20231106T044107Z
UID:10000020-1712966400-1713052799@mwphglin.org
SUMMARY:OES District 7\,8 Spring Convention-TBA
DESCRIPTION:
URL:https://mwphglin.org/event/oes-district-78-spring-convention-tba/
CATEGORIES:Prince Hall Grand Chapter
ATTACH;FMTTYPE=image/png:https://mwphglin.org/wp-content/uploads/2021/10/oes-logo-large_1.png
ORGANIZER;CN="PHGC of IN":MAILTO:phgcindianagwm@gmail.com
END:VEVENT
BEGIN:VEVENT
DTSTART;VALUE=DATE:20240409
DTEND;VALUE=DATE:20240410
DTSTAMP:20260420T200539
CREATED:20211019T023420Z
LAST-MODIFIED:20231106T050420Z
UID:10000024-1712620800-1712707199@mwphglin.org
SUMMARY:Knights Templar Easter Sunrise Service (each Commandery)
DESCRIPTION:
URL:https://mwphglin.org/event/knights-templar-easter-sunrise-service-each-commandery/
CATEGORIES:York Rite
ATTACH;FMTTYPE=image/jpeg:https://mwphglin.org/wp-content/uploads/2021/10/Knights_Templar_Logo_PHA.jpg
ORGANIZER;CN="Knights Templar":MAILTO:jwmphgckt.in@inyorkrite.com
END:VEVENT
BEGIN:VEVENT
DTSTART;VALUE=DATE:20240407
DTEND;VALUE=DATE:20240408
DTSTAMP:20260420T200539
CREATED:20211019T021542Z
LAST-MODIFIED:20231106T050158Z
UID:10000027-1712448000-1712534399@mwphglin.org
SUMMARY:Midwest Shrine Coalition Retreat (Louisville\, Kentucky)
DESCRIPTION:MWSC 2024 Mid-Year Meeting
URL:https://mwphglin.org/event/midwest-shrine-coalition-retreat-detroit-michigan/
ATTACH;FMTTYPE=image/png:https://mwphglin.org/wp-content/uploads/2021/10/il_794xN-NO-BG.png
END:VEVENT
BEGIN:VEVENT
DTSTART;VALUE=DATE:20240404
DTEND;VALUE=DATE:20240408
DTSTAMP:20260420T200539
CREATED:20211019T020928Z
LAST-MODIFIED:20231106T045634Z
UID:10000026-1712188800-1712534399@mwphglin.org
SUMMARY:Midwest Conference of Grand Master & Grand Matrons (Louisville\, Kentucky)
DESCRIPTION:MWRC 2024 Packet FillableV2
URL:https://mwphglin.org/event/midwest-conference-of-grand-master-grand-matrons-detroit-michigan/
CATEGORIES:Prince Hall Grand Chapter
ATTACH;FMTTYPE=image/jpeg:https://mwphglin.org/wp-content/uploads/2021/10/simbolo-maconico-1-242x300-1.jpg
END:VEVENT
BEGIN:VEVENT
DTSTART;VALUE=DATE:20240330
DTEND;VALUE=DATE:20240331
DTSTAMP:20260420T200539
CREATED:20211019T023036Z
LAST-MODIFIED:20231106T045510Z
UID:10000008-1711756800-1711843199@mwphglin.org
SUMMARY:Alpha Grand Court Spring Workshop
DESCRIPTION:
URL:https://mwphglin.org/event/alpha-grand-court-spring-workshop/
END:VEVENT
BEGIN:VEVENT
DTSTART;VALUE=DATE:20240324
DTEND;VALUE=DATE:20240325
DTSTAMP:20260420T200539
CREATED:20211019T022940Z
LAST-MODIFIED:20231106T045435Z
UID:10000007-1711238400-1711324799@mwphglin.org
SUMMARY:Alpha Grand Court Palm Sunday Service
DESCRIPTION:
URL:https://mwphglin.org/event/alpha-grand-court-palm-sunday-service/
END:VEVENT
BEGIN:VEVENT
DTSTART;VALUE=DATE:20240323
DTEND;VALUE=DATE:20240324
DTSTAMP:20260420T200539
CREATED:20211019T022814Z
LAST-MODIFIED:20231106T044021Z
UID:10000006-1711152000-1711238399@mwphglin.org
SUMMARY:OES District 1\, 6 Spring Convention
DESCRIPTION:
URL:https://mwphglin.org/event/oes-district-1-6-spring-convention/
CATEGORIES:Prince Hall Grand Chapter
ATTACH;FMTTYPE=image/png:https://mwphglin.org/wp-content/uploads/2021/10/oes-logo-large_1.png
ORGANIZER;CN="PHGC of IN":MAILTO:phgcindianagwm@gmail.com
END:VEVENT
BEGIN:VEVENT
DTSTART;VALUE=DATE:20240321
DTEND;VALUE=DATE:20240322
DTSTAMP:20260420T200539
CREATED:20211019T015653Z
LAST-MODIFIED:20231106T045345Z
UID:10000032-1710979200-1711065599@mwphglin.org
SUMMARY:Ceremony of Remembrance and Renewal (Each Consistory)
DESCRIPTION:
URL:https://mwphglin.org/event/ceremony-of-remembrance-and-renewal-each-consistory/
CATEGORIES:Orient of Indiana
ATTACH;FMTTYPE=image/png:https://mwphglin.org/wp-content/uploads/2021/10/scottish-rite-wings-up-NO-BG.png
END:VEVENT
BEGIN:VEVENT
DTSTART;VALUE=DATE:20240315
DTEND;VALUE=DATE:20240317
DTSTAMP:20260420T200539
CREATED:20211019T015938Z
LAST-MODIFIED:20231106T045247Z
UID:10000034-1710460800-1710633599@mwphglin.org
SUMMARY:Cawthar Temple #118 Potentate Ball (Evansville)
DESCRIPTION:
URL:https://mwphglin.org/event/cawthar-temple-118-potentate-ball-evansville/
CATEGORIES:Desert of Indiana
ATTACH;FMTTYPE=image/png:https://mwphglin.org/wp-content/uploads/2021/10/DOI-Nobles-w-RIDE.png
END:VEVENT
BEGIN:VEVENT
DTSTART;VALUE=DATE:20240309
DTEND;VALUE=DATE:20240310
DTSTAMP:20260420T200539
CREATED:20211019T015333Z
LAST-MODIFIED:20231106T045201Z
UID:10000039-1709942400-1710028799@mwphglin.org
SUMMARY:Desert Conference
DESCRIPTION:
URL:https://mwphglin.org/event/desert-conference/
CATEGORIES:Desert of Indiana
ATTACH;FMTTYPE=image/png:https://mwphglin.org/wp-content/uploads/2021/10/DOI-Nobles-w-RIDE.png
END:VEVENT
BEGIN:VEVENT
DTSTART;VALUE=DATE:20240302
DTEND;VALUE=DATE:20240303
DTSTAMP:20260420T200539
CREATED:20211019T020549Z
LAST-MODIFIED:20231106T043926Z
UID:10000030-1709337600-1709423999@mwphglin.org
SUMMARY:OES District 4\,5 Spring Convention – TBA
DESCRIPTION:
URL:https://mwphglin.org/event/oes-district-45-spring-convention-tba/
CATEGORIES:Prince Hall Grand Chapter
ATTACH;FMTTYPE=image/png:https://mwphglin.org/wp-content/uploads/2021/10/oes-logo-large_1.png
ORGANIZER;CN="PHGC of IN":MAILTO:phgcindianagwm@gmail.com
END:VEVENT
BEGIN:VEVENT
DTSTART;VALUE=DATE:20240225
DTEND;VALUE=DATE:20240226
DTSTAMP:20260420T200539
CREATED:20211019T014813Z
LAST-MODIFIED:20231106T045106Z
UID:10000037-1708819200-1708905599@mwphglin.org
SUMMARY:Black History Program – (BLACK OUT DATE)
DESCRIPTION:
URL:https://mwphglin.org/event/black-history-program-tba-black-out-date/
CATEGORIES:Prince Hall Grand Lodge
ATTACH;FMTTYPE=image/png:https://mwphglin.org/wp-content/uploads/2021/10/GL-Seal-NO-BG.png
ORGANIZER;CN="PHGL of IN":MAILTO:mwphglin@gmail.com
END:VEVENT
BEGIN:VEVENT
DTSTART;VALUE=DATE:20240224
DTEND;VALUE=DATE:20240225
DTSTAMP:20260420T200539
CREATED:20211019T015120Z
LAST-MODIFIED:20231106T043819Z
UID:10000038-1708732800-1708819199@mwphglin.org
SUMMARY:OES District 2\, 3\, Spring Convention – TBA
DESCRIPTION:
URL:https://mwphglin.org/event/oes-district-2-3-spring-convention-tba/
CATEGORIES:Prince Hall Grand Chapter
ATTACH;FMTTYPE=image/png:https://mwphglin.org/wp-content/uploads/2021/10/oes-logo-large_1.png
ORGANIZER;CN="PHGC of IN":MAILTO:phgcindianagwm@gmail.com
END:VEVENT
BEGIN:VEVENT
DTSTART;VALUE=DATE:20240106
DTEND;VALUE=DATE:20240107
DTSTAMP:20260420T200539
CREATED:20231106T044945Z
LAST-MODIFIED:20231106T044945Z
UID:10000073-1704499200-1704585599@mwphglin.org
SUMMARY:Indiana York Rite Administrative Degrees
DESCRIPTION:
URL:https://mwphglin.org/event/indiana-york-rite-administrative-degrees-2/
CATEGORIES:York Rite
END:VEVENT
BEGIN:VEVENT
DTSTART;VALUE=DATE:20240106
DTEND;VALUE=DATE:20240107
DTSTAMP:20260420T200539
CREATED:20211019T013703Z
LAST-MODIFIED:20231106T044901Z
UID:10000043-1704499200-1704585599@mwphglin.org
SUMMARY:Alpha Grand Court Royal Palace
DESCRIPTION:
URL:https://mwphglin.org/event/alpha-grand-court-royal-palace/
CATEGORIES:York Rite
END:VEVENT
BEGIN:VEVENT
DTSTART;VALUE=DATE:20231216
DTEND;VALUE=DATE:20231217
DTSTAMP:20260420T200539
CREATED:20231106T044721Z
LAST-MODIFIED:20231106T050332Z
UID:10000072-1702684800-1702771199@mwphglin.org
SUMMARY:Knights Templar Christmas Toast (each Commandery)
DESCRIPTION:
URL:https://mwphglin.org/event/knights-templar-christmas-toast-each-commandrey/
CATEGORIES:York Rite
ATTACH;FMTTYPE=image/jpeg:https://mwphglin.org/wp-content/uploads/2021/10/il_570xN.1377453488_t0y9.jpg
END:VEVENT
BEGIN:VEVENT
DTSTART;VALUE=DATE:20231216
DTEND;VALUE=DATE:20231217
DTSTAMP:20260420T200539
CREATED:20231106T044419Z
LAST-MODIFIED:20231106T044419Z
UID:10000070-1702684800-1702771199@mwphglin.org
SUMMARY:Central District District Table Lodge (on or before Dec. 27) DDGM
DESCRIPTION:
URL:https://mwphglin.org/event/central-district-district-table-lodge-on-or-before-dec-27-ddgm/
CATEGORIES:Prince Hall Grand Lodge
ATTACH;FMTTYPE=image/png:https://mwphglin.org/wp-content/uploads/2021/10/GL-Seal-NO-BG.png
ORGANIZER;CN="PHGL of IN":MAILTO:mwphglin@gmail.com
END:VEVENT
BEGIN:VEVENT
DTSTART;VALUE=DATE:20231202
DTEND;VALUE=DATE:20231203
DTSTAMP:20260420T200539
CREATED:20231106T053403Z
LAST-MODIFIED:20231106T053403Z
UID:10000081-1701475200-1701561599@mwphglin.org
SUMMARY:Statewide Amaranth Degree – TBA
DESCRIPTION:
URL:https://mwphglin.org/event/statewide-amaranth-degree-tba-2/
CATEGORIES:Prince Hall Grand Lodge
ATTACH;FMTTYPE=image/png:https://mwphglin.org/wp-content/uploads/2021/10/GL-Seal-NO-BG.png
ORGANIZER;CN="PHGL of IN":MAILTO:mwphglin@gmail.com
END:VEVENT
BEGIN:VEVENT
DTSTART;VALUE=DATE:20231202
DTEND;VALUE=DATE:20231203
DTSTAMP:20260420T200539
CREATED:20211019T013441Z
LAST-MODIFIED:20231106T044758Z
UID:10000042-1701475200-1701561599@mwphglin.org
SUMMARY:CR Richardson 50th Anniversary
DESCRIPTION:
URL:https://mwphglin.org/event/table-lodges-on-or-before-dec-27-ddgm-gjw/
CATEGORIES:Prince Hall Grand Lodge
ATTACH;FMTTYPE=image/png:https://mwphglin.org/wp-content/uploads/2021/10/GL-Seal-NO-BG.png
ORGANIZER;CN="PHGL of IN":MAILTO:mwphglin@gmail.com
END:VEVENT
BEGIN:VEVENT
DTSTART;VALUE=DATE:20231201
DTEND;VALUE=DATE:20231228
DTSTAMP:20260420T200539
CREATED:20231106T044607Z
LAST-MODIFIED:20231106T044607Z
UID:10000071-1701388800-1703721599@mwphglin.org
SUMMARY:Table Lodges (on or before Dec. 27) DDGM/GJW
DESCRIPTION:
URL:https://mwphglin.org/event/table-lodges-on-or-before-dec-27-ddgm-gjw-2/
CATEGORIES:Prince Hall Grand Lodge
ATTACH;FMTTYPE=image/png:https://mwphglin.org/wp-content/uploads/2021/10/GL-Seal-NO-BG.png
ORGANIZER;CN="PHGL of IN":MAILTO:mwphglin@gmail.com
END:VEVENT
BEGIN:VEVENT
DTSTART;VALUE=DATE:20231119
DTEND;VALUE=DATE:20231120
DTSTAMP:20260420T200539
CREATED:20211019T022627Z
LAST-MODIFIED:20231106T043654Z
UID:10000029-1700352000-1700438399@mwphglin.org
SUMMARY:R&SM/ KT Fall Workshop
DESCRIPTION:
URL:https://mwphglin.org/event/indiana-york-rite-workshop/
CATEGORIES:York Rite
ATTACH;FMTTYPE=image/jpeg:https://mwphglin.org/wp-content/uploads/2021/10/il_570xN.1377453488_t0y9.jpg
END:VEVENT
BEGIN:VEVENT
DTSTART;VALUE=DATE:20231117
DTEND;VALUE=DATE:20231119
DTSTAMP:20260420T200539
CREATED:20231106T053803Z
LAST-MODIFIED:20231106T053803Z
UID:10000083-1700179200-1700351999@mwphglin.org
SUMMARY:Persian Temple #46 Potentate Ball (Indianapolis\, IN)
DESCRIPTION:
URL:https://mwphglin.org/event/persian-temple-46-potentate-ball-indianapolis-in/
CATEGORIES:Desert of Indiana
ATTACH;FMTTYPE=image/png:https://mwphglin.org/wp-content/uploads/2021/10/daughters_wBL-NO-BG.png
END:VEVENT
BEGIN:VEVENT
DTSTART;VALUE=DATE:20231110
DTEND;VALUE=DATE:20231112
DTSTAMP:20260420T200539
CREATED:20231106T053903Z
LAST-MODIFIED:20231106T053903Z
UID:10000084-1699574400-1699747199@mwphglin.org
SUMMARY:Magic City Consistory #62 CIC Luncheon
DESCRIPTION:
URL:https://mwphglin.org/event/magic-city-consistory-62-cic-luncheon/
CATEGORIES:Desert of Indiana
ATTACH;FMTTYPE=image/png:https://mwphglin.org/wp-content/uploads/2021/10/DOI-Nobles-w-RIDE.png
END:VEVENT
BEGIN:VEVENT
DTSTART;VALUE=DATE:20231110
DTEND;VALUE=DATE:20231112
DTSTAMP:20260420T200539
CREATED:20231106T053542Z
LAST-MODIFIED:20231106T053542Z
UID:10000082-1699574400-1699747199@mwphglin.org
SUMMARY:Saudi Temple and Court Joint Ball
DESCRIPTION:
URL:https://mwphglin.org/event/saudi-temple-and-court-joint-ball/
CATEGORIES:Desert of Indiana
ATTACH;FMTTYPE=image/png:https://mwphglin.org/wp-content/uploads/2021/10/DOI-Nobles-w-RIDE.png
END:VEVENT
END:VCALENDAR